BEGIN:VCALENDAR
VERSION:2.0
PRODID: Officenet Systems Ltd.
BEGIN:VTIMEZONE
TZID:Europe/London
BEGIN:STANDARD
DTSTART:20241027T010000
TZOFFSETFROM:+0100
TZOFFSETTO:+0000
TZNAME:GMT
END:STANDARD
BEGIN:DAYLIGHT
DTSTART:20240331T010000
TZOFFSETFROM:+0000
TZOFFSETTO:+0100
TZNAME:BST
END:DAYLIGHT
END:VTIMEZONE
BEGIN:VEVENT
DTSTAMP:20191121T140000Z
UID:https://cottandco.com/en/lots/auction/2828---britvic-soft-drinks-superb-blow-moulding-machines-8-x-pet-bottling-lines-packaging-palletising-machinery--equipment
URL:https://cottandco.com/en/lots/auction/2828---britvic-soft-drinks-superb-blow-moulding-machines-8-x-pet-bottling-lines-packaging-palletising-machinery--equipment
CATEGORIES:AUCTION
ORGANIZER;CN=Cottrill & Co:MAILTO:info@cottandco.com
DTSTART;TZID=Europe/London:20191121T140000
DTEND;TZID=Europe/London:20191121T150000
SUMMARY: 2828 - Britvic Soft Drinks: Superb Blow Moulding Machines, PET Bottling Lines, Packaging, Palletising Machinery & Equipment
DESCRIPTION:2828 - Britvic Soft Drinks: Superb Blow Moulding Machines, PET Bottling Lines, Packaging, Palletising Machinery & Equipment
END:VEVENT
END:VCALENDAR
