BEGIN:VCALENDAR
VERSION:2.0
PRODID: Officenet Systems Ltd.
BEGIN:VTIMEZONE
TZID:Europe/London
BEGIN:STANDARD
DTSTART:20241027T010000
TZOFFSETFROM:+0100
TZOFFSETTO:+0000
TZNAME:GMT
END:STANDARD
BEGIN:DAYLIGHT
DTSTART:20240331T010000
TZOFFSETFROM:+0000
TZOFFSETTO:+0100
TZNAME:BST
END:DAYLIGHT
END:VTIMEZONE
BEGIN:VEVENT
DTSTAMP:20171107T140000Z
UID:https://cottandco.com/it/lots/auction/2621---precitech-diamond-turning-lathe-cnc-lathes-machining-centres-and-other-associated-equipment-previously-used-in-the-aerospace--air-bearings-manufacturing-industries
URL:https://cottandco.com/it/lots/auction/2621---precitech-diamond-turning-lathe-cnc-lathes-machining-centres-and-other-associated-equipment-previously-used-in-the-aerospace--air-bearings-manufacturing-industries
CATEGORIES:AUCTION
ORGANIZER;CN=Cottrill & Co:MAILTO:info@cottandco.com
DTSTART;TZID=Europe/London:20171107T140000
DTEND;TZID=Europe/London:20171107T150000
SUMMARY: 2621 - Precitech Diamond Turning Lathe, CNC Lathes, Machining Centres and Other Associated Equipment previously used in the Aerospace & Air Bearings Manufacturing Industries
DESCRIPTION:2621 - Precitech Diamond Turning Lathe, CNC Lathes, Machining Centres and Other Associated Equipment previously used in the Aerospace & Air Bearings Manufacturing Industries
END:VEVENT
END:VCALENDAR
